BEGIN:VCALENDAR
VERSION:2.0
PRODID:-//eventon.com NONSGML v1.0//EN
CALSCALE:GREGORIAN
METHOD:PUBLISH
BEGIN:VEVENT
UID:69e750e0427ec
DTSTAMP:20260421T102640Z
DTSTART:20260419T150000Z
DTEND:20260419T225000Z
LOCATION:
SUMMARY:Elvis Tribute
DESCRIPTION:Elvis Tribute\nhttps://www.thesoch.club/whats-on/elvis-tribute/
URL:https://www.thesoch.club/whats-on/elvis-tribute/
END:VEVENT
END:VCALENDAR